BEGIN:VCALENDAR
VERSION:2.0
PRODID:-//NESTOR DE ALMEIDA - PALESTRANTE E ESCRITOR
CALSCALE:GREGORIAN
METHOD:PUBLISH
X-WR-CALNAME:NESTOR DE ALMEIDA - PALESTRANTE E ESCRITOR
X-ORIGINAL-URL:https://www.almeida1vencedor.com/event/primeiro-evento/
X-WR-CALDESC:Convite: Nestor de Almeida na TV. Record. Dia 08/12/19  às 17h.
BEGIN:VEVENT
DTSTART:
DTEND:
SUMMARY:Convite: Nestor de Almeida na TV. Record. Dia 08/12/19  às 17h.
DESCRIPTION:
LOCATION:
END:VEVENT
END:VCALENDAR
