BEGIN:VCALENDAR
VERSION:2.0
PRODID:-//NESTOR DE ALMEIDA - PALESTRANTE E ESCRITOR
CALSCALE:GREGORIAN
METHOD:PUBLISH
X-WR-CALNAME:NESTOR DE ALMEIDA - PALESTRANTE E ESCRITOR
X-ORIGINAL-URL:https://www.almeida1vencedor.com/event/superando-os-limites/
X-WR-CALDESC:Palestra: Ética, uma escolha de vida.
BEGIN:VEVENT
DTSTART:
DTEND:
SUMMARY:Palestra: Ética, uma escolha de vida.
DESCRIPTION:
LOCATION:
END:VEVENT
END:VCALENDAR
